BEGIN:VCALENDAR
VERSION:2.0
PRODID:-//Het Onverharde Pad - ECPv6.15.20//NONSGML v1.0//EN
CALSCALE:GREGORIAN
METHOD:PUBLISH
X-WR-CALNAME:Het Onverharde Pad
X-ORIGINAL-URL:https://zomerland.nu
X-WR-CALDESC:Evenementen voor Het Onverharde Pad
REFRESH-INTERVAL;VALUE=DURATION:PT1H
X-Robots-Tag:noindex
X-PUBLISHED-TTL:PT1H
BEGIN:VTIMEZONE
TZID:Europe/Amsterdam
BEGIN:DAYLIGHT
TZOFFSETFROM:+0100
TZOFFSETTO:+0200
TZNAME:CEST
DTSTART:20230326T010000
END:DAYLIGHT
BEGIN:STANDARD
TZOFFSETFROM:+0200
TZOFFSETTO:+0100
TZNAME:CET
DTSTART:20231029T010000
END:STANDARD
BEGIN:DAYLIGHT
TZOFFSETFROM:+0100
TZOFFSETTO:+0200
TZNAME:CEST
DTSTART:20240331T010000
END:DAYLIGHT
BEGIN:STANDARD
TZOFFSETFROM:+0200
TZOFFSETTO:+0100
TZNAME:CET
DTSTART:20241027T010000
END:STANDARD
BEGIN:DAYLIGHT
TZOFFSETFROM:+0100
TZOFFSETTO:+0200
TZNAME:CEST
DTSTART:20250330T010000
END:DAYLIGHT
BEGIN:STANDARD
TZOFFSETFROM:+0200
TZOFFSETTO:+0100
TZNAME:CET
DTSTART:20251026T010000
END:STANDARD
END:VTIMEZONE
BEGIN:VEVENT
DTSTART;TZID=Europe/Amsterdam:20240922T060000
DTEND;TZID=Europe/Amsterdam:20240922T110000
DTSTAMP:20260421T155650
CREATED:20240813T135139Z
LAST-MODIFIED:20240920T185429Z
UID:10000037-1726984800-1727002800@zomerland.nu
SUMMARY:The Rising Sun Experience / Herfst Equinox
DESCRIPTION:Tijdens de zonnewende en de equinox staan vele mensen op aarde stil bij dit bijzondere moment. Dat doen wij ook met The Rising Sun Experience. Met elkaar wandelen we de zonsopkomst tegemoet: we nemen het zonlicht tot ons als een shot drie-dubbele-espresso! Door samen voor dag en dauw op pad te gaan\, beleven we een verfrissende buitenervaring. Het is een moment om je eigen plek in het grotere geheel te herijken. Dit doen we op de mooiste plekken dicht bij huis. Zet je wekker\, kom in beweging en ervaar deze magische ochtenden met ons! \nOp zondagochtend 22 september presenteren ZOMERLAND en Het Onverharde Pad\, in de natuur tussen Delft en Rotterdam\, The Rising Sun Experience! \nWe vieren de Herfst Equinox in het licht van de rijzende zon. De zonsopkomst is een magisch begin van de dag – het ochtendgloren verbindt je met de kracht en schoonheid van moeder natuur. Eens per drie maanden is de opkomende zon extra bijzonder: het licht van die dag markeert het hoogtepunt van het seizoen. Vier het toppunt van de herfst zoals je dat nog nooit hebt gedaan! \n\n\nTijdens deze unieke ervaring dompelen we ons onder in de natuur\, aan de rand van de stad. We beleven de Equinox\, het moment waarop de zon loodrecht boven de evenaar staat en dag en nacht vrijwel overal op aarde even lang zijn. Dit vieren we met een speciale wandeling over prachtige onverharde paden. \n\n\nDe natuur is in deze tijd van het jaar adembenemend: mistige velden\, de vogeltrek in volle gang\, en de natuur die haar herfsttinten laat zien. Trek je wandelschoenen aan en vier samen met ons de kracht van de Herfst Equinox! \nProgramma: \n• Een betoverende hike door de poldervelden\n• Equinox-meditatie\n• Moment van stilte omringd door de natuur\n• Genieten van de vogeltrek\, die in volle gang is\n• Echte verbinding en inspirerende gesprekken bij de vuurkorf \n\n\nLaat deze zonsopkomst je inspireren en verrijken. Boek je ticket en wandel met ons mee! \nDit is inclusief koffie\, thee en een ontbijt uit het vuistje.
URL:https://zomerland.nu/event/the-rising-sun-experience-herfst-equinox-zondag-22-september-2024/
LOCATION:Lente Equinox\, Parkeerplaats De Tempel West-Abtspolderseweg 3046\, Rotterdam\, Zuid-Holland\, Netherlands
CATEGORIES:HOP events,The Rising Sun Experience
ATTACH;FMTTYPE=image/jpeg:https://zomerland.nu/wp-content/uploads/2024/08/The-Rising-Sun-Experience-Herfst-Equinox-zondag-22-september-2024.jpg
END:VEVENT
END:VCALENDAR