BEGIN:VCALENDAR
VERSION:2.0
PRODID:-//Het Onverharde Pad - ECPv6.15.20//NONSGML v1.0//EN
CALSCALE:GREGORIAN
METHOD:PUBLISH
X-ORIGINAL-URL:https://zomerland.nu
X-WR-CALDESC:Evenementen voor Het Onverharde Pad
REFRESH-INTERVAL;VALUE=DURATION:PT1H
X-Robots-Tag:noindex
X-PUBLISHED-TTL:PT1H
BEGIN:VTIMEZONE
TZID:Europe/Amsterdam
BEGIN:DAYLIGHT
TZOFFSETFROM:+0100
TZOFFSETTO:+0200
TZNAME:CEST
DTSTART:20230326T010000
END:DAYLIGHT
BEGIN:STANDARD
TZOFFSETFROM:+0200
TZOFFSETTO:+0100
TZNAME:CET
DTSTART:20231029T010000
END:STANDARD
BEGIN:DAYLIGHT
TZOFFSETFROM:+0100
TZOFFSETTO:+0200
TZNAME:CEST
DTSTART:20240331T010000
END:DAYLIGHT
BEGIN:STANDARD
TZOFFSETFROM:+0200
TZOFFSETTO:+0100
TZNAME:CET
DTSTART:20241027T010000
END:STANDARD
BEGIN:DAYLIGHT
TZOFFSETFROM:+0100
TZOFFSETTO:+0200
TZNAME:CEST
DTSTART:20250330T010000
END:DAYLIGHT
BEGIN:STANDARD
TZOFFSETFROM:+0200
TZOFFSETTO:+0100
TZNAME:CET
DTSTART:20251026T010000
END:STANDARD
END:VTIMEZONE
BEGIN:VEVENT
DTSTART;TZID=Europe/Amsterdam:20241201T100000
DTEND;TZID=Europe/Amsterdam:20241201T123000
DTSTAMP:20260421T225552
CREATED:20240813T131600Z
LAST-MODIFIED:20241125T171337Z
UID:10000027-1733047200-1733056200@zomerland.nu
SUMMARY:ZOMERLAND / Op Zondag
DESCRIPTION:Heb jij zoals velen de behoefte aan ontmoetingen en inspiratie of wil je er gewoon simpel even uit zijn op de zondagochtend\, ontdek dan ons maandelijkse zondagmorgen moment: ZOMERLAND Op Zondag. \nElke eerste zondag van de maand organiseren wij ’s morgens een laagdrempelig event waar iedereen kan aansluiten. Een moment om je te laten inspireren\, te ontspannen\, anderen te ontmoeten\, stil te staan of juist in beweging te zijn\, buiten of binnen\, elke maand kun je aanhaken! \nJuist in deze tijd\, vol prikkels\, drukke agenda’s en een chronisch idee en gevoel van tijd en energie te kort hebben\, creëren wij op deze ochtenden een mogelijkheid tot vertragen\, verwonderen en verbinden. \nEen stadswandelingetje en een kop koffie\, een korte prikkelende lezing\, een vroege film\, jutten op het strand met je hond\, een tuinbezoek\, muziek; elke maand iets anders\, maar in alle eenvoud telkens weer verrassend en voedend. \nDit samenkomen op de zondag appelleert aan ons menselijke verlangen rust en reflectie in te bouwen in ons soms drukke bestaan. Het verlangen om buiten onze vaste routines en automatische piloot te navigeren\, omdat het nu eenmaal voedend en prettig is om je te verbinden met anderen. Een moderne invulling van het oude idee van de kerk\, met als geloof: ‘Hoe meer zielen hoe meer vreugde’! Niet dan? \nHet programma van ZOMERLAND voor deze eerste zondag in december\n \n\nOm 10:00 ontvangen we jullie graag bij de Hofbogen\, in De ruimte voor ideeën en beginnen we met een kop thee of koffie. We starten deze herfstige zondag met een mooie oefening van Ylske\, met ‘loslaten’ als thema! Ongeveer een uur later neemt Iddo jullie mee naar buiten\, wandelen we richting het stadse groen in Blijdorp en maken een pitstop bij Bakkerij Ids\, waar we jullie trakteren op iets lekkers. Rond 12:30 zijn we terug bij de Hofbogen. Fijne zondag!
URL:https://zomerland.nu/event/zomerland-op-zondag-1-december-2024/
LOCATION:De ruimte voor ideeën\, Vijverhofstraat 114\, Rotterdam\, Zuid-Holland\, 3032 SP\, Netherlands
CATEGORIES:lezingen & filosofie,ZOMERLAND op zondag
ATTACH;FMTTYPE=image/jpeg:https://zomerland.nu/wp-content/uploads/2024/08/ZOMERLAND-Op-Zondag-zondag-6-oktober-2024-Anne-Kaere-Fotografie.jpg
END:VEVENT
BEGIN:VEVENT
DTSTART;TZID=Europe/Amsterdam:20241215T153000
DTEND;TZID=Europe/Amsterdam:20241215T170000
DTSTAMP:20260421T225552
CREATED:20240828T111712Z
LAST-MODIFIED:20241124T120050Z
UID:10000043-1734276600-1734282000@zomerland.nu
SUMMARY:Hike & Space / Rotterdam
DESCRIPTION:Hike & Space is al jaren een van de beproefde succesnummers van Het Onverharde Pad! Tijdens deze betoverende wandelserie worden al onze zintuigen op een unieke manier aangenaam geprikkeld. \nDe Hike & Space wandelingen vinden plaats in Rotterdam en ver daarbuiten. Het Park bij de Euromast\, de Wolvenvallei in het Kralingse Bos\, het Vliegenbos in Amsterdam\, het Stadspark van Groningen of juist over het zand van het majestueuze strand van Den Haag; elke wandeling mondt uit in een verfrissende choreografische combinatie van de omgeving en de wandelaars. \nTijdens het ondergaan van de zon en het opkomen van de maan versterken de muzikale klanken de cadans van het wandelen en de specifieke sfeer van het omringende landschap. Kortom\, een avondwandeling over onverharde paden die garant staat voor een gevoel van verbinding met de natuur\, jezelf en anderen; een ’natural high’ experience! \nHet programma van Hike & Space tijdens de volle maan in december \nBij de laatste volle maan van het jaar nodigen we je uit voor een betoverende boswandeling door het Kralingse Bos. Terwijl de zon langzaam ondergaat en de volle maan oprijst\, genieten we samen van dit magische moment. In een warme kerstsfeer volgen we Het Onverharde Pad\, met onderweg glühwein en iets lekkers om van te smullen. Sluit gezellig aan en beleef deze unieke\, muzikale wandeltrip om het jaar feestelijk af te sluiten! \nTickets bestellen \n 
URL:https://zomerland.nu/event/hike-space-rotterdam-zondag-15-december-2024/
LOCATION:Kralingse Bos\, Langepad 51\, Rotterdam\, Zuid-Holland\, 3062 CJ\, Netherlands
CATEGORIES:Hike & Space,HOP events
ATTACH;FMTTYPE=image/jpeg:https://zomerland.nu/wp-content/uploads/2024/08/Hike-Space-Haarlem-zondag-15-december-2024-Anne-Kaere-Fotografie.jpg
END:VEVENT
BEGIN:VEVENT
DTSTART;TZID=Europe/Amsterdam:20241221T070000
DTEND;TZID=Europe/Amsterdam:20241221T120000
DTSTAMP:20260421T225552
CREATED:20240813T140301Z
LAST-MODIFIED:20250228T111111Z
UID:10000039-1734764400-1734782400@zomerland.nu
SUMMARY:The Rising Sun Experience / Winter Zonnewende
DESCRIPTION:Tijdens de zonnewende en de equinox staan vele mensen op aarde stil bij dit bijzondere moment. Dat doen wij ook met The Rising Sun Experience. Met elkaar wandelen we de zonsopkomst tegemoet: we nemen het zonlicht tot ons als een shot drie-dubbele-espresso! Door samen voor dag en dauw op pad te gaan\, beleven we een verfrissende buitenervaring. Het is een moment om je eigen plek in het grotere geheel te herijken. Dit doen we op de mooiste plekken dicht bij huis. Zet je wekker\, kom in beweging en ervaar deze magische ochtenden met ons! \nHet programma van The Rising Sun Experience / Winter Zonnewende \nTijdens de kortste dag van het jaar vieren we in de ochtendschemer de winterzonnewende op een prachtige plek\, vlakbij Rotterdam: de Ackerdijkse Plassen! \nZOMERLAND en Het Onverharde Pad nodigen je van harte uit voor The Rising Sun Experience op zaterdag 21 december. In dit prachtige natuurgebied begroeten we samen de eerste zonnestralen van de nieuwe winterdag en vieren we de overgang naar het licht\, terwijl de dagen langzaam weer beginnen te lengen. \nProgramma: \n07:00 uur – Ontvangst \nBij aankomst word je verwelkomd bij een knisperend haardvuur in de sfeervolle Oud-Hollandse boerderij van Natuurmonumenten. Hier\, midden in de natuur\, begint onze bijzondere ochtend. \nZonnewende Meditatie\nIn stilte en reflectie vieren we de zonnewende met een rustgevende meditatie\, begeleid door harpist Indra Diallo\, die een magische sfeer creëert. \nHike door de polders\nNa de meditatie wandelen we samen door de uitgestrekte poldervelden\, waar de natuur zich in al haar pracht laat zien. \nZonsopkomst en zonnewende-ervaring\nIn het open veld ervaren we de zonsopkomst om precies 08:48 uur\, een krachtig moment dat de winterzonnewende symboliseert. \nKerstontbijt \nWe sluiten deze fijne ochtend af met een feestelijk en heerlijk kerstontbijt op de boerderij. \nHet evenement eindigt aan het einde van de ochtend. Zorg dat je op tijd je ticket koopt om dit bijzondere moment mee te maken. \nVier de magie van de zonnewende met ons en ervaar een ochtend vol verbinding\, natuur\, muziek en reflectie. Samen zetten we koers naar het licht en een nieuw begin! \nWees welkom!\n\nHier is een terugblik op de Winter Zonnewende van vorig jaar. \nThe Rising Sun Experience / Winter Zonnewende 2023
URL:https://zomerland.nu/event/the-rising-sun-experience-winter-zonnewende-zaterdag-21-december-2024/
LOCATION:Ackerdijkse Plassen\, Rijksstraatweg 125\, Delft\, Zuid-Holland\, 2629 JE
CATEGORIES:HOP events,The Rising Sun Experience
ATTACH;FMTTYPE=image/jpeg:https://zomerland.nu/wp-content/uploads/2024/08/The-Rising-Sun-Experience-Winter-Zonnewende-zaterdag-21-december-2024.jpg
END:VEVENT
END:VCALENDAR