BEGIN:VCALENDAR
VERSION:2.0
PRODID:-//Het Onverharde Pad - ECPv6.15.20//NONSGML v1.0//EN
CALSCALE:GREGORIAN
METHOD:PUBLISH
X-ORIGINAL-URL:https://zomerland.nu
X-WR-CALDESC:Evenementen voor Het Onverharde Pad
REFRESH-INTERVAL;VALUE=DURATION:PT1H
X-Robots-Tag:noindex
X-PUBLISHED-TTL:PT1H
BEGIN:VTIMEZONE
TZID:Europe/Amsterdam
BEGIN:DAYLIGHT
TZOFFSETFROM:+0100
TZOFFSETTO:+0200
TZNAME:CEST
DTSTART:20240331T010000
END:DAYLIGHT
BEGIN:STANDARD
TZOFFSETFROM:+0200
TZOFFSETTO:+0100
TZNAME:CET
DTSTART:20241027T010000
END:STANDARD
BEGIN:DAYLIGHT
TZOFFSETFROM:+0100
TZOFFSETTO:+0200
TZNAME:CEST
DTSTART:20250330T010000
END:DAYLIGHT
BEGIN:STANDARD
TZOFFSETFROM:+0200
TZOFFSETTO:+0100
TZNAME:CET
DTSTART:20251026T010000
END:STANDARD
BEGIN:DAYLIGHT
TZOFFSETFROM:+0100
TZOFFSETTO:+0200
TZNAME:CEST
DTSTART:20260329T010000
END:DAYLIGHT
BEGIN:STANDARD
TZOFFSETFROM:+0200
TZOFFSETTO:+0100
TZNAME:CET
DTSTART:20261025T010000
END:STANDARD
END:VTIMEZONE
BEGIN:VEVENT
DTSTART;TZID=Europe/Amsterdam:20250401T120000
DTEND;TZID=Europe/Amsterdam:20250630T180000
DTSTAMP:20260421T114053
CREATED:20260317T172143Z
LAST-MODIFIED:20260317T172952Z
UID:10000084-1743508800-1751306400@zomerland.nu
SUMMARY:Het Onverharde Pad meerdaagse Wandeltocht
DESCRIPTION:Het Ziltepad\n\nHet Ziltepad\, gelegen in het noorden van Nederland\, slingert door Friesland en Groningen langs de kust. Deze lente heb je de mogelijkheid om samen met Iddo\, van Het Onverharde Pad\, een deel van deze bijzondere route te bewandelen. Tijdens deze meerdaagse wandeltocht ontdekken we het historische landschap\, met dagelijks uitzicht op de Waddenzee. De zilte zeelucht en de open ruimte brengen vanzelf rust en helderheid. ”Het Ziltepad neemt je mee langs ongerepte natuur\, authentieke dorpen en eeuwenoude kerken.” \nAlleen (1-op-1)\, met z’n tweeën of in een klein groepje (max. 3 deelnemers). \nDit zijn geen standaard groepsretraites\, maar persoonlijke\, kleinschalige wandelretraites\, afgestemd op jouw tempo\, vraag of intentie. \nWat je kunt verwachten \n\n\nDagelijkse wandelingen in een weids en verstild landschap \n\n\nPersoonlijke begeleiding en gesprekken onderweg \n\n\nMomenten van stilte en reflectie \n\n\nCreatieve uitnodigingen (zoals schrijven\, tekenen of intuïtief werken met wat er is) \n\n\nEenvoud\, rust en aandacht \n\n\nWe verblijven op kleinschalige\, rustige plekken langs de route.In de avond is er een gezamenlijke maaltijd. \nVoor wie \nVoor wie verlangt naar ruimte\, beweging en verstilling.Voor wie iets wil uitzoeken\, verdiepen of afronden. \nDeze dagen kunnen ook een mooie manier zijn om: \n\n\neen overgangsmoment te markeren \n\n\neen vraagstuk te onderzoeken \n\n\nsamen met een ander (partner\, vriend(in)\, familielid) op pad te zijn \n\n\nof simpelweg te vertragen en op te laden \n\n\nDe vorm \nDe basis is een: \n4-daagse wandelretraite (3 nachten) \n\n\nAlleen (1-op-1 begeleiding) \n\n\nMet z’n tweeën \n\n\nIn een klein groepje (max. 3 deelnemers) \n\n\nIn overleg is het mogelijk om een kortere of langere variant samen te stellen. \nWanneer \nDeze lente: april\, mei en juniData worden in overleg afgestemd \nWaar \nWe starten in het Friese Hijum en volgen Het Ziltepad via onder andere Hegebeintum\, Holwerd\, Oostrum\, Vierhuizen\, Hornhuizen en Pieterburen\, richting het Groningse Uithuizermeeden.\nMet vele kilometers in de benen en een sublieme ervaring rijker keren we gevoed huiswaarts! \nBegeleiding \nIddo Drevijn van Het Onverharde Pad.\nBegeleidt deze dagen op een open en aandachtige manier\, met ruimte voor verstilling\, gesprek en wat zich onderweg aandient. \nPrijs \n4-daagse wandelretraite (3 nachten) \n\n\n1-op-1 (persoonlijke begeleiding): €1350 \n\n\nMet z’n tweeën: €1100 p.p. \n\n\nKleine groep (max. 3): €950 p.p. \n\n\nInclusief: \n\n\nOvernachtingen \n\n\nOntbijt en avondmaaltijden \n\n\nBegeleiding \n\n\nExclusief: \n\n\nLunch \n\n\nVervoer naar startpunt \n\n\nWe verblijven op eenvoudige\, sfeervolle plekken langs de route. \nIn overleg is het mogelijk om te kiezen voor een meer comfortabele of uitgebreide accommodatie\, waarbij de prijs wordt aangepast. \nPrijzen zijn inclusief btw. Voor zakelijke facturatie wordt btw apart gespecificeerd. \nVoor meer info en reserveren mail naar: hop@hetonverhardepad.nl
URL:https://zomerland.nu/event/het-onverharde-pad-x-het-ziltepad/
LOCATION:Het Ziltepad\, Lege Hearewei 3\, Hijum\, Friesland\, 9054 KB\, Netherlands
CATEGORIES:Retraites,Wandelingen
ATTACH;FMTTYPE=image/jpeg:https://zomerland.nu/wp-content/uploads/2025/02/Het-Ziltepad-woensdag-26-tot-en-met-zondag-30-maart-2025.jpg
ORGANIZER;CN="Het Onverharde Pad":MAILTO:hop@hetonverhardepad.nl
END:VEVENT
BEGIN:VEVENT
DTSTART;TZID=Europe/Amsterdam:20250601T093000
DTEND;TZID=Europe/Amsterdam:20250601T120000
DTSTAMP:20260421T114053
CREATED:20240813T132621Z
LAST-MODIFIED:20241015T152120Z
UID:10000035-1748770200-1748779200@zomerland.nu
SUMMARY:ZOMERLAND / Op Zondag
DESCRIPTION:Heb jij zoals velen de behoefte aan ontmoetingen en inspiratie of wil je er gewoon simpel even uit zijn op de zondagochtend\, ontdek dan ons maandelijkse zondagmorgen moment: ZOMERLAND Op Zondag. \nElke eerste zondag van de maand organiseren wij ’s morgens een laagdrempelig event waar iedereen kan aansluiten. Een moment om je te laten inspireren\, te ontspannen\, anderen te ontmoeten\, stil te staan of juist in beweging te zijn\, buiten of binnen\, elke maand kun je aanhaken! \nJuist in deze tijd\, vol prikkels\, drukke agenda’s en een chronisch idee en gevoel van tijd en energie te kort hebben\, creëren wij op deze ochtenden een mogelijkheid tot vertragen\, verwonderen en verbinden. \nEen stadswandelingetje en een kop koffie\, een korte prikkelende lezing\, een vroege film\, jutten op het strand met je hond\, een tuinbezoek\, muziek; elke maand iets anders\, maar in alle eenvoud telkens weer verrassend en voedend. \nDit samenkomen op de zondag appelleert aan ons menselijke verlangen rust en reflectie in te bouwen in ons soms drukke bestaan. Het verlangen om buiten onze vaste routines en automatische piloot te navigeren\, omdat het nu eenmaal voedend en prettig is om je te verbinden met anderen. Een moderne invulling van het oude idee van de kerk\, met als geloof: ‘Hoe meer zielen hoe meer vreugde’! Niet dan? \nHet programma van ZOMERLAND voor deze eerste zondag in juni maken we op een later moment bekend!
URL:https://zomerland.nu/event/zomerland-op-zondag-1-juni-2025/
LOCATION:Rotterdam en omgeving
CATEGORIES:lezingen & filosofie,ZOMERLAND op zondag
ATTACH;FMTTYPE=image/jpeg:https://zomerland.nu/wp-content/uploads/2024/08/ZOMERLAND-Op-Zondag-zondag-1-juni-2025-Anne-Kaere-Fotografie.jpg
END:VEVENT
BEGIN:VEVENT
DTSTART;TZID=Europe/Amsterdam:20250610T213000
DTEND;TZID=Europe/Amsterdam:20250610T230000
DTSTAMP:20260421T114053
CREATED:20240828T112126Z
LAST-MODIFIED:20240920T181459Z
UID:10000047-1749591000-1749596400@zomerland.nu
SUMMARY:Hike & Space / Eindhoven
DESCRIPTION:Hike & Space is al jaren een van de beproefde succesnummers van Het Onverharde Pad! Tijdens deze betoverende wandelserie worden al onze zintuigen op een unieke manier aangenaam geprikkeld. \nDe Hike & Space wandelingen vinden plaats in Rotterdam en ver daarbuiten. Het Park bij de Euromast\, de Wolvenvallei in het Kralingse Bos\, het Vliegenbos in Amsterdam\, het Stadspark van Groningen of juist over het zand van het majestueuze strand van Den Haag; elke wandeling mondt uit in een verfrissende choreografische combinatie van de omgeving en de wandelaars. \nTijdens het ondergaan van de zon en het opkomen van de maan versterken de muzikale klanken de cadans van het wandelen en de specifieke sfeer van het omringende landschap. Kortom\, een avondwandeling over onverharde paden die garant staat voor een gevoel van verbinding met de natuur\, jezelf en anderen; een ’natural high’ experience! \nHet programma van Hike & Space tijdens de volle maan in juni\n \nDaarover later meer!
URL:https://zomerland.nu/event/hike-space-eindhoven-dinsdag-10-juni-2025/
LOCATION:Genneper Parken\, Boutenslaan 161\, Eindhoven\, Noord-Brabant\, 5644 TV\, Netherlands
CATEGORIES:Hike & Space,HOP events
ATTACH;FMTTYPE=image/jpeg:https://zomerland.nu/wp-content/uploads/2024/08/Hike-Space-Eindhoven-dinsdag-10-juni-2025-Anne-Kaere-Fotografie.jpg
END:VEVENT
BEGIN:VEVENT
DTSTART;TZID=Europe/Amsterdam:20250621T033000
DTEND;TZID=Europe/Amsterdam:20250621T083000
DTSTAMP:20260421T114053
CREATED:20240813T134123Z
LAST-MODIFIED:20250616T143528Z
UID:10000036-1750476600-1750494600@zomerland.nu
SUMMARY:The Rising Sun Experience
DESCRIPTION:Zomer Zonnewende\nTijdens de Zomer Zonnewende vieren we het magische moment waarop de zon haar hoogste punt bereikt: de kortste nacht en de langste dag van het jaar. We maken een midzomernachtwandeling op een prachtige\, natuurrijke plek net buiten de stad: de Ackerdijkse Plassen. Daar sluiten we deze bijzondere ochtend af met een heerlijk ontbijt bij het kampvuur\, verzorgd door de lekkerste bakker van Rotterdam: Bakkerij Ids! \nWereldwijd staan mensen tijdens de zonnewende en de equinox stil bij dit bijzondere moment. Ook wij doen dat met The Rising Sun Experience. Samen wandelen we de zonsopkomst tegemoet en nemen het zonlicht tot ons als een shot drie-dubbele-espresso! Door samen voor dag en dauw op pad te gaan\, beleven we een verfrissende buitenervaring. Een moment om je eigen plek in het grotere geheel te herijken. Dit doen we op de mooiste plekken dicht bij huis. Zet je wekker\, kom in beweging en ervaar deze magische ochtenden met ons! \nIn samenwerking met Het Onverharde Pad nodigen je van harte uit voor deze verkwikkende viering van de zonnewende. We wandelen een deel van Het Mazenpad\, de nieuwe wandelroute van Het Onverharde Pad\, door de groene mazen tussen Rotterdam en Delft. Onderweg bewegen we door de polder en staan stil bij midzomer: een tijd van bloei\, overvloed en het vieren van het leven! \nWanneer \nZaterdag 21 juni om 03:30 uur ontmoeten we elkaar aan de rand van Rotterdam\, op het moment dat de nacht langzaam plaatsmaakt voor de dageraad. Vanaf dat moment begint onze gezamenlijke reis naar de zonnewende! \nWaar \nWe verzamelen op de parkeerplaats bij Buitenplaats De Tempel (Rotterdam-Overschie) en wandelen vanaf daar naar de boerderij van Natuurmonumenten bij de Ackerdijkse Plassen.\nOm 04:41\, precies tijdens de zomerzonnewende\, vieren we een ceremonie in de natuur: een moment van bezinning\, verwondering en verbinding.\nOm 05:22 breekt het magische moment aan wanneer de zon opkomt.\nDaarna sluiten we de ochtend af met een feestelijk ontbijt van Bakkerij Ids op de boerderij\, midden in de natuur. \nPrijs \nEen ticket voor The Rising Sun Experience kost je €49\,00. Ontbijt is hierbij inbegrepen.\nEr is een sociaal tarief is €35 voor studenten of wie het financieel wat krapper heeft. Kies gerust dit tarief als dat beter past bij jouw situatie\, we werken op basis van vertrouwen. \nHier is een terugblik op The Rising Sun Experience tijdens de laatste Winter Zonnewende. \nThe Rising Sun Experience / Winter Zonnewende 2024
URL:https://zomerland.nu/event/the-rising-sun-experience-zomer-zonnewende-zaterdag-21-juni-2025/
LOCATION:Zomer Zonnewende\, Parkeerplaats De Tempel West-Abtspolderseweg 3046\, Rotterdam\, Zuid-Holland
CATEGORIES:HOP events,The Rising Sun Experience
ATTACH;FMTTYPE=image/jpeg:https://zomerland.nu/wp-content/uploads/2024/08/The-Rising-Sun-Experience-Zomer-Zonnewende-zaterdag-21-juni-2025.jpg
END:VEVENT
END:VCALENDAR